BEGIN:VCALENDAR
VERSION:2.0
PRODID:-//Sweet Union Baptist Church - ECPv6.15.20//NONSGML v1.0//EN
CALSCALE:GREGORIAN
METHOD:PUBLISH
X-WR-CALNAME:Sweet Union Baptist Church
X-ORIGINAL-URL:https://subcjtx.com
X-WR-CALDESC:Events for Sweet Union Baptist Church
REFRESH-INTERVAL;VALUE=DURATION:PT1H
X-Robots-Tag:noindex
X-PUBLISHED-TTL:PT1H
BEGIN:VTIMEZONE
TZID:America/Chicago
BEGIN:DAYLIGHT
TZOFFSETFROM:-0600
TZOFFSETTO:-0500
TZNAME:CDT
DTSTART:20240310T080000
END:DAYLIGHT
BEGIN:STANDARD
TZOFFSETFROM:-0500
TZOFFSETTO:-0600
TZNAME:CST
DTSTART:20241103T070000
END:STANDARD
BEGIN:DAYLIGHT
TZOFFSETFROM:-0600
TZOFFSETTO:-0500
TZNAME:CDT
DTSTART:20250309T080000
END:DAYLIGHT
BEGIN:STANDARD
TZOFFSETFROM:-0500
TZOFFSETTO:-0600
TZNAME:CST
DTSTART:20251102T070000
END:STANDARD
BEGIN:DAYLIGHT
TZOFFSETFROM:-0600
TZOFFSETTO:-0500
TZNAME:CDT
DTSTART:20260308T080000
END:DAYLIGHT
BEGIN:STANDARD
TZOFFSETFROM:-0500
TZOFFSETTO:-0600
TZNAME:CST
DTSTART:20261101T070000
END:STANDARD
END:VTIMEZONE
BEGIN:VEVENT
DTSTART;TZID=America/Chicago:20251203T180000
DTEND;TZID=America/Chicago:20251203T190000
DTSTAMP:20260423T170749
CREATED:20251121T001333Z
LAST-MODIFIED:20251122T175053Z
UID:2400-1764784800-1764788400@subcjtx.com
SUMMARY:Prayer Meeting/Bible Study
DESCRIPTION:
URL:https://subcjtx.com/event/bible-study-5/
END:VEVENT
BEGIN:VEVENT
DTSTART;TZID=America/Chicago:20251207T094500
DTEND;TZID=America/Chicago:20251207T104500
DTSTAMP:20260423T170749
CREATED:20251122T185025Z
LAST-MODIFIED:20251122T185025Z
UID:2668-1765100700-1765104300@subcjtx.com
SUMMARY:Sunday School
DESCRIPTION:
URL:https://subcjtx.com/event/sunday-school-24/
END:VEVENT
BEGIN:VEVENT
DTSTART;TZID=America/Chicago:20251207T110000
DTEND;TZID=America/Chicago:20251207T123000
DTSTAMP:20260423T170749
CREATED:20251122T182056Z
LAST-MODIFIED:20251122T182056Z
UID:2545-1765105200-1765110600@subcjtx.com
SUMMARY:Morning  Worship
DESCRIPTION:
URL:https://subcjtx.com/event/morning-worship-22/
END:VEVENT
BEGIN:VEVENT
DTSTART;TZID=America/Chicago:20251210T180000
DTEND;TZID=America/Chicago:20251210T190000
DTSTAMP:20260423T170749
CREATED:20251121T001402Z
LAST-MODIFIED:20251122T174614Z
UID:2402-1765389600-1765393200@subcjtx.com
SUMMARY:Prayer Meeting/Bible Study
DESCRIPTION:
URL:https://subcjtx.com/event/bible-study-6/
END:VEVENT
BEGIN:VEVENT
DTSTART;TZID=America/Chicago:20251214T094500
DTEND;TZID=America/Chicago:20251214T104500
DTSTAMP:20260423T170749
CREATED:20251122T185058Z
LAST-MODIFIED:20251122T185058Z
UID:2670-1765705500-1765709100@subcjtx.com
SUMMARY:Sunday School
DESCRIPTION:
URL:https://subcjtx.com/event/sunday-school-25/
END:VEVENT
BEGIN:VEVENT
DTSTART;TZID=America/Chicago:20251214T110000
DTEND;TZID=America/Chicago:20251214T123000
DTSTAMP:20260423T170749
CREATED:20251122T182117Z
LAST-MODIFIED:20251122T182124Z
UID:2547-1765710000-1765715400@subcjtx.com
SUMMARY:Morning  Worship
DESCRIPTION:
URL:https://subcjtx.com/event/morning-worship-23/
END:VEVENT
BEGIN:VEVENT
DTSTART;TZID=America/Chicago:20251217T180000
DTEND;TZID=America/Chicago:20251217T190000
DTSTAMP:20260423T170749
CREATED:20251121T001449Z
LAST-MODIFIED:20251122T174606Z
UID:2404-1765994400-1765998000@subcjtx.com
SUMMARY:Prayer Meeting/Bible Study
DESCRIPTION:
URL:https://subcjtx.com/event/bible-study-7/
END:VEVENT
BEGIN:VEVENT
DTSTART;TZID=America/Chicago:20251221T094500
DTEND;TZID=America/Chicago:20251221T104500
DTSTAMP:20260423T170749
CREATED:20251122T185117Z
LAST-MODIFIED:20251122T185117Z
UID:2672-1766310300-1766313900@subcjtx.com
SUMMARY:Sunday School
DESCRIPTION:
URL:https://subcjtx.com/event/sunday-school-26/
END:VEVENT
BEGIN:VEVENT
DTSTART;TZID=America/Chicago:20251221T110000
DTEND;TZID=America/Chicago:20251221T123000
DTSTAMP:20260423T170749
CREATED:20251122T182146Z
LAST-MODIFIED:20251122T182146Z
UID:2549-1766314800-1766320200@subcjtx.com
SUMMARY:Morning  Worship
DESCRIPTION:
URL:https://subcjtx.com/event/morning-worship-24/
END:VEVENT
BEGIN:VEVENT
DTSTART;TZID=America/Chicago:20251224T180000
DTEND;TZID=America/Chicago:20251224T190000
DTSTAMP:20260423T170749
CREATED:20251121T001529Z
LAST-MODIFIED:20251122T174556Z
UID:2407-1766599200-1766602800@subcjtx.com
SUMMARY:Prayer Meeting/Bible Study
DESCRIPTION:
URL:https://subcjtx.com/event/bible-study-8/
END:VEVENT
BEGIN:VEVENT
DTSTART;TZID=America/Chicago:20251228T094500
DTEND;TZID=America/Chicago:20251228T104500
DTSTAMP:20260423T170749
CREATED:20251122T185138Z
LAST-MODIFIED:20251122T185138Z
UID:2674-1766915100-1766918700@subcjtx.com
SUMMARY:Sunday School
DESCRIPTION:
URL:https://subcjtx.com/event/sunday-school-27/
END:VEVENT
BEGIN:VEVENT
DTSTART;TZID=America/Chicago:20251228T110000
DTEND;TZID=America/Chicago:20251228T123000
DTSTAMP:20260423T170749
CREATED:20251122T182212Z
LAST-MODIFIED:20251122T182223Z
UID:2551-1766919600-1766925000@subcjtx.com
SUMMARY:Morning  Worship
DESCRIPTION:
URL:https://subcjtx.com/event/morning-worship-25/
END:VEVENT
BEGIN:VEVENT
DTSTART;TZID=America/Chicago:20251231T180000
DTEND;TZID=America/Chicago:20251231T190000
DTSTAMP:20260423T170749
CREATED:20251121T001555Z
LAST-MODIFIED:20251122T174551Z
UID:2409-1767204000-1767207600@subcjtx.com
SUMMARY:Prayer Meeting/Bible Study
DESCRIPTION:
URL:https://subcjtx.com/event/bible-study-9/
END:VEVENT
END:VCALENDAR