BEGIN:VCALENDAR
VERSION:2.0
PRODID:-//Sweet Union Baptist Church - ECPv6.15.20//NONSGML v1.0//EN
CALSCALE:GREGORIAN
METHOD:PUBLISH
X-ORIGINAL-URL:https://subcjtx.com
X-WR-CALDESC:Events for Sweet Union Baptist Church
REFRESH-INTERVAL;VALUE=DURATION:PT1H
X-Robots-Tag:noindex
X-PUBLISHED-TTL:PT1H
BEGIN:VTIMEZONE
TZID:America/Chicago
BEGIN:DAYLIGHT
TZOFFSETFROM:-0600
TZOFFSETTO:-0500
TZNAME:CDT
DTSTART:20250309T080000
END:DAYLIGHT
BEGIN:STANDARD
TZOFFSETFROM:-0500
TZOFFSETTO:-0600
TZNAME:CST
DTSTART:20251102T070000
END:STANDARD
BEGIN:DAYLIGHT
TZOFFSETFROM:-0600
TZOFFSETTO:-0500
TZNAME:CDT
DTSTART:20260308T080000
END:DAYLIGHT
BEGIN:STANDARD
TZOFFSETFROM:-0500
TZOFFSETTO:-0600
TZNAME:CST
DTSTART:20261101T070000
END:STANDARD
BEGIN:DAYLIGHT
TZOFFSETFROM:-0600
TZOFFSETTO:-0500
TZNAME:CDT
DTSTART:20270314T080000
END:DAYLIGHT
BEGIN:STANDARD
TZOFFSETFROM:-0500
TZOFFSETTO:-0600
TZNAME:CST
DTSTART:20271107T070000
END:STANDARD
END:VTIMEZONE
BEGIN:VEVENT
DTSTART;TZID=America/Chicago:20260201T094500
DTEND;TZID=America/Chicago:20260201T104500
DTSTAMP:20260423T151019
CREATED:20251122T185801Z
LAST-MODIFIED:20251122T185801Z
UID:2686-1769939100-1769942700@subcjtx.com
SUMMARY:Sunday School
DESCRIPTION:
URL:https://subcjtx.com/event/sunday-school-33/
END:VEVENT
BEGIN:VEVENT
DTSTART;TZID=America/Chicago:20260201T110000
DTEND;TZID=America/Chicago:20260201T123000
DTSTAMP:20260423T151019
CREATED:20251122T182424Z
LAST-MODIFIED:20251122T182430Z
UID:2561-1769943600-1769949000@subcjtx.com
SUMMARY:Morning  Worship
DESCRIPTION:
URL:https://subcjtx.com/event/morning-worship-30/
END:VEVENT
BEGIN:VEVENT
DTSTART;TZID=America/Chicago:20260204T180000
DTEND;TZID=America/Chicago:20260204T190000
DTSTAMP:20260423T151019
CREATED:20251122T164010Z
LAST-MODIFIED:20251122T174515Z
UID:2424-1770228000-1770231600@subcjtx.com
SUMMARY:Prayer Meeting/Bible Study
DESCRIPTION:
URL:https://subcjtx.com/event/bible-study-16/
END:VEVENT
BEGIN:VEVENT
DTSTART;TZID=America/Chicago:20260208T094500
DTEND;TZID=America/Chicago:20260208T104500
DTSTAMP:20260423T151019
CREATED:20251122T185823Z
LAST-MODIFIED:20251122T185823Z
UID:2688-1770543900-1770547500@subcjtx.com
SUMMARY:Sunday School
DESCRIPTION:
URL:https://subcjtx.com/event/sunday-school-34/
END:VEVENT
BEGIN:VEVENT
DTSTART;TZID=America/Chicago:20260208T110000
DTEND;TZID=America/Chicago:20260208T123000
DTSTAMP:20260423T151019
CREATED:20251122T182451Z
LAST-MODIFIED:20251122T182457Z
UID:2563-1770548400-1770553800@subcjtx.com
SUMMARY:Morning  Worship
DESCRIPTION:
URL:https://subcjtx.com/event/morning-worship-31/
END:VEVENT
BEGIN:VEVENT
DTSTART;TZID=America/Chicago:20260211T180000
DTEND;TZID=America/Chicago:20260211T190000
DTSTAMP:20260423T151019
CREATED:20251121T001854Z
LAST-MODIFIED:20251122T174509Z
UID:2419-1770832800-1770836400@subcjtx.com
SUMMARY:Prayer Meeting/Bible Study
DESCRIPTION:
URL:https://subcjtx.com/event/bible-study-14/
END:VEVENT
BEGIN:VEVENT
DTSTART;TZID=America/Chicago:20260215T094500
DTEND;TZID=America/Chicago:20260215T104500
DTSTAMP:20260423T151019
CREATED:20251122T185844Z
LAST-MODIFIED:20251122T185844Z
UID:2690-1771148700-1771152300@subcjtx.com
SUMMARY:Sunday School
DESCRIPTION:
URL:https://subcjtx.com/event/sunday-school-35/
END:VEVENT
BEGIN:VEVENT
DTSTART;TZID=America/Chicago:20260215T110000
DTEND;TZID=America/Chicago:20260215T123000
DTSTAMP:20260423T151019
CREATED:20251122T182517Z
LAST-MODIFIED:20251122T182522Z
UID:2565-1771153200-1771158600@subcjtx.com
SUMMARY:Morning  Worship
DESCRIPTION:
URL:https://subcjtx.com/event/morning-worship-32/
END:VEVENT
BEGIN:VEVENT
DTSTART;TZID=America/Chicago:20260218T180000
DTEND;TZID=America/Chicago:20260218T190000
DTSTAMP:20260423T151019
CREATED:20251122T164041Z
LAST-MODIFIED:20251122T174500Z
UID:2426-1771437600-1771441200@subcjtx.com
SUMMARY:Prayer Meeting/Bible Study
DESCRIPTION:
URL:https://subcjtx.com/event/bible-study-17/
END:VEVENT
BEGIN:VEVENT
DTSTART;TZID=America/Chicago:20260222T094500
DTEND;TZID=America/Chicago:20260222T104500
DTSTAMP:20260423T151019
CREATED:20251122T185904Z
LAST-MODIFIED:20251122T185904Z
UID:2692-1771753500-1771757100@subcjtx.com
SUMMARY:Sunday School
DESCRIPTION:
URL:https://subcjtx.com/event/sunday-school-36/
END:VEVENT
BEGIN:VEVENT
DTSTART;TZID=America/Chicago:20260222T110000
DTEND;TZID=America/Chicago:20260222T123000
DTSTAMP:20260423T151019
CREATED:20251122T182541Z
LAST-MODIFIED:20251122T182547Z
UID:2567-1771758000-1771763400@subcjtx.com
SUMMARY:Morning  Worship
DESCRIPTION:
URL:https://subcjtx.com/event/morning-worship-33/
END:VEVENT
BEGIN:VEVENT
DTSTART;TZID=America/Chicago:20260225T180000
DTEND;TZID=America/Chicago:20260225T190000
DTSTAMP:20260423T151019
CREATED:20251121T001942Z
LAST-MODIFIED:20251122T174454Z
UID:2421-1772042400-1772046000@subcjtx.com
SUMMARY:Prayer Meeting/Bible Study
DESCRIPTION:
URL:https://subcjtx.com/event/bible-study-15/
END:VEVENT
END:VCALENDAR