BEGIN:VCALENDAR
VERSION:2.0
PRODID:-//Sweet Union Baptist Church - ECPv6.15.20//NONSGML v1.0//EN
CALSCALE:GREGORIAN
METHOD:PUBLISH
X-WR-CALNAME:Sweet Union Baptist Church
X-ORIGINAL-URL:https://subcjtx.com
X-WR-CALDESC:Events for Sweet Union Baptist Church
REFRESH-INTERVAL;VALUE=DURATION:PT1H
X-Robots-Tag:noindex
X-PUBLISHED-TTL:PT1H
BEGIN:VTIMEZONE
TZID:America/Chicago
BEGIN:DAYLIGHT
TZOFFSETFROM:-0600
TZOFFSETTO:-0500
TZNAME:CDT
DTSTART:20250309T080000
END:DAYLIGHT
BEGIN:STANDARD
TZOFFSETFROM:-0500
TZOFFSETTO:-0600
TZNAME:CST
DTSTART:20251102T070000
END:STANDARD
BEGIN:DAYLIGHT
TZOFFSETFROM:-0600
TZOFFSETTO:-0500
TZNAME:CDT
DTSTART:20260308T080000
END:DAYLIGHT
BEGIN:STANDARD
TZOFFSETFROM:-0500
TZOFFSETTO:-0600
TZNAME:CST
DTSTART:20261101T070000
END:STANDARD
BEGIN:DAYLIGHT
TZOFFSETFROM:-0600
TZOFFSETTO:-0500
TZNAME:CDT
DTSTART:20270314T080000
END:DAYLIGHT
BEGIN:STANDARD
TZOFFSETFROM:-0500
TZOFFSETTO:-0600
TZNAME:CST
DTSTART:20271107T070000
END:STANDARD
END:VTIMEZONE
BEGIN:VEVENT
DTSTART;TZID=America/Chicago:20260603T180000
DTEND;TZID=America/Chicago:20260603T190000
DTSTAMP:20260423T132335
CREATED:20251122T180033Z
LAST-MODIFIED:20251122T180033Z
UID:2473-1780509600-1780513200@subcjtx.com
SUMMARY:Prayer Meeting/Bible Study
DESCRIPTION:
URL:https://subcjtx.com/event/prayer-meeting-bible-study-53/
END:VEVENT
BEGIN:VEVENT
DTSTART;TZID=America/Chicago:20260607T094500
DTEND;TZID=America/Chicago:20260607T104500
DTSTAMP:20260423T132335
CREATED:20251122T190441Z
LAST-MODIFIED:20251122T190536Z
UID:2722-1780825500-1780829100@subcjtx.com
SUMMARY:Sunday School
DESCRIPTION:
URL:https://subcjtx.com/event/sunday-school-51/
END:VEVENT
BEGIN:VEVENT
DTSTART;TZID=America/Chicago:20260607T110000
DTEND;TZID=America/Chicago:20260607T123000
DTSTAMP:20260423T132335
CREATED:20251122T183215Z
LAST-MODIFIED:20251122T183215Z
UID:2597-1780830000-1780835400@subcjtx.com
SUMMARY:Morning  Worship
DESCRIPTION:
URL:https://subcjtx.com/event/morning-worship-48/
END:VEVENT
BEGIN:VEVENT
DTSTART;TZID=America/Chicago:20260610T180000
DTEND;TZID=America/Chicago:20260610T190000
DTSTAMP:20260423T132335
CREATED:20251122T180049Z
LAST-MODIFIED:20251122T180049Z
UID:2475-1781114400-1781118000@subcjtx.com
SUMMARY:Prayer Meeting/Bible Study
DESCRIPTION:
URL:https://subcjtx.com/event/prayer-meeting-bible-study-54/
END:VEVENT
BEGIN:VEVENT
DTSTART;TZID=America/Chicago:20260614T094500
DTEND;TZID=America/Chicago:20260614T104500
DTSTAMP:20260423T132335
CREATED:20251122T190559Z
LAST-MODIFIED:20251122T190559Z
UID:2724-1781430300-1781433900@subcjtx.com
SUMMARY:Sunday School
DESCRIPTION:
URL:https://subcjtx.com/event/sunday-school-52/
END:VEVENT
BEGIN:VEVENT
DTSTART;TZID=America/Chicago:20260614T110000
DTEND;TZID=America/Chicago:20260614T123000
DTSTAMP:20260423T132335
CREATED:20251122T183240Z
LAST-MODIFIED:20251122T183240Z
UID:2599-1781434800-1781440200@subcjtx.com
SUMMARY:Morning  Worship
DESCRIPTION:
URL:https://subcjtx.com/event/morning-worship-49/
END:VEVENT
BEGIN:VEVENT
DTSTART;TZID=America/Chicago:20260617T180000
DTEND;TZID=America/Chicago:20260617T190000
DTSTAMP:20260423T132335
CREATED:20251122T180105Z
LAST-MODIFIED:20251122T180105Z
UID:2477-1781719200-1781722800@subcjtx.com
SUMMARY:Prayer Meeting/Bible Study
DESCRIPTION:
URL:https://subcjtx.com/event/prayer-meeting-bible-study-55/
END:VEVENT
BEGIN:VEVENT
DTSTART;TZID=America/Chicago:20260621T094500
DTEND;TZID=America/Chicago:20260621T104500
DTSTAMP:20260423T132335
CREATED:20251122T190622Z
LAST-MODIFIED:20251122T190622Z
UID:2726-1782035100-1782038700@subcjtx.com
SUMMARY:Sunday School
DESCRIPTION:
URL:https://subcjtx.com/event/sunday-school-53/
END:VEVENT
BEGIN:VEVENT
DTSTART;TZID=America/Chicago:20260621T110000
DTEND;TZID=America/Chicago:20260621T123000
DTSTAMP:20260423T132335
CREATED:20251122T183310Z
LAST-MODIFIED:20251122T183310Z
UID:2601-1782039600-1782045000@subcjtx.com
SUMMARY:Morning  Worship
DESCRIPTION:
URL:https://subcjtx.com/event/morning-worship-50/
END:VEVENT
BEGIN:VEVENT
DTSTART;TZID=America/Chicago:20260624T180000
DTEND;TZID=America/Chicago:20260624T190000
DTSTAMP:20260423T132335
CREATED:20251122T180122Z
LAST-MODIFIED:20251122T180122Z
UID:2479-1782324000-1782327600@subcjtx.com
SUMMARY:Prayer Meeting/Bible Study
DESCRIPTION:
URL:https://subcjtx.com/event/prayer-meeting-bible-study-56/
END:VEVENT
BEGIN:VEVENT
DTSTART;TZID=America/Chicago:20260628T094500
DTEND;TZID=America/Chicago:20260628T104500
DTSTAMP:20260423T132335
CREATED:20251122T190654Z
LAST-MODIFIED:20251122T190654Z
UID:2728-1782639900-1782643500@subcjtx.com
SUMMARY:Sunday School
DESCRIPTION:
URL:https://subcjtx.com/event/sunday-school-54/
END:VEVENT
BEGIN:VEVENT
DTSTART;TZID=America/Chicago:20260628T110000
DTEND;TZID=America/Chicago:20260628T123000
DTSTAMP:20260423T132335
CREATED:20251122T183331Z
LAST-MODIFIED:20251122T183331Z
UID:2603-1782644400-1782649800@subcjtx.com
SUMMARY:Morning  Worship
DESCRIPTION:
URL:https://subcjtx.com/event/morning-worship-51/
END:VEVENT
END:VCALENDAR