BEGIN:VCALENDAR
VERSION:2.0
PRODID:-//Sweet Union Baptist Church - ECPv6.15.20//NONSGML v1.0//EN
CALSCALE:GREGORIAN
METHOD:PUBLISH
X-ORIGINAL-URL:https://subcjtx.com
X-WR-CALDESC:Events for Sweet Union Baptist Church
REFRESH-INTERVAL;VALUE=DURATION:PT1H
X-Robots-Tag:noindex
X-PUBLISHED-TTL:PT1H
BEGIN:VTIMEZONE
TZID:America/Chicago
BEGIN:DAYLIGHT
TZOFFSETFROM:-0600
TZOFFSETTO:-0500
TZNAME:CDT
DTSTART:20250309T080000
END:DAYLIGHT
BEGIN:STANDARD
TZOFFSETFROM:-0500
TZOFFSETTO:-0600
TZNAME:CST
DTSTART:20251102T070000
END:STANDARD
BEGIN:DAYLIGHT
TZOFFSETFROM:-0600
TZOFFSETTO:-0500
TZNAME:CDT
DTSTART:20260308T080000
END:DAYLIGHT
BEGIN:STANDARD
TZOFFSETFROM:-0500
TZOFFSETTO:-0600
TZNAME:CST
DTSTART:20261101T070000
END:STANDARD
BEGIN:DAYLIGHT
TZOFFSETFROM:-0600
TZOFFSETTO:-0500
TZNAME:CDT
DTSTART:20270314T080000
END:DAYLIGHT
BEGIN:STANDARD
TZOFFSETFROM:-0500
TZOFFSETTO:-0600
TZNAME:CST
DTSTART:20271107T070000
END:STANDARD
END:VTIMEZONE
BEGIN:VEVENT
DTSTART;TZID=America/Chicago:20260701T180000
DTEND;TZID=America/Chicago:20260701T190000
DTSTAMP:20260423T150816
CREATED:20251122T180140Z
LAST-MODIFIED:20251122T180140Z
UID:2481-1782928800-1782932400@subcjtx.com
SUMMARY:Prayer Meeting/Bible Study
DESCRIPTION:
URL:https://subcjtx.com/event/prayer-meeting-bible-study-57/
END:VEVENT
BEGIN:VEVENT
DTSTART;TZID=America/Chicago:20260705T094500
DTEND;TZID=America/Chicago:20260705T104500
DTSTAMP:20260423T150816
CREATED:20251122T190716Z
LAST-MODIFIED:20251122T190737Z
UID:2730-1783244700-1783248300@subcjtx.com
SUMMARY:Sunday School
DESCRIPTION:
URL:https://subcjtx.com/event/sunday-school-55/
END:VEVENT
BEGIN:VEVENT
DTSTART;TZID=America/Chicago:20260705T110000
DTEND;TZID=America/Chicago:20260705T123000
DTSTAMP:20260423T150816
CREATED:20251122T183402Z
LAST-MODIFIED:20251122T183402Z
UID:2605-1783249200-1783254600@subcjtx.com
SUMMARY:Morning  Worship
DESCRIPTION:
URL:https://subcjtx.com/event/morning-worship-52/
END:VEVENT
BEGIN:VEVENT
DTSTART;TZID=America/Chicago:20260708T180000
DTEND;TZID=America/Chicago:20260708T190000
DTSTAMP:20260423T150816
CREATED:20251122T180158Z
LAST-MODIFIED:20251122T180158Z
UID:2483-1783533600-1783537200@subcjtx.com
SUMMARY:Prayer Meeting/Bible Study
DESCRIPTION:
URL:https://subcjtx.com/event/prayer-meeting-bible-study-58/
END:VEVENT
BEGIN:VEVENT
DTSTART;TZID=America/Chicago:20260712T094500
DTEND;TZID=America/Chicago:20260712T104500
DTSTAMP:20260423T150816
CREATED:20251122T190800Z
LAST-MODIFIED:20251122T190800Z
UID:2732-1783849500-1783853100@subcjtx.com
SUMMARY:Sunday School
DESCRIPTION:
URL:https://subcjtx.com/event/sunday-school-56/
END:VEVENT
BEGIN:VEVENT
DTSTART;TZID=America/Chicago:20260712T110000
DTEND;TZID=America/Chicago:20260712T123000
DTSTAMP:20260423T150816
CREATED:20251122T183424Z
LAST-MODIFIED:20251122T183434Z
UID:2607-1783854000-1783859400@subcjtx.com
SUMMARY:Morning  Worship
DESCRIPTION:
URL:https://subcjtx.com/event/morning-worship-53/
END:VEVENT
BEGIN:VEVENT
DTSTART;TZID=America/Chicago:20260715T180000
DTEND;TZID=America/Chicago:20260715T190000
DTSTAMP:20260423T150816
CREATED:20251122T180216Z
LAST-MODIFIED:20251122T180216Z
UID:2485-1784138400-1784142000@subcjtx.com
SUMMARY:Prayer Meeting/Bible Study
DESCRIPTION:
URL:https://subcjtx.com/event/prayer-meeting-bible-study-59/
END:VEVENT
BEGIN:VEVENT
DTSTART;TZID=America/Chicago:20260719T094500
DTEND;TZID=America/Chicago:20260719T104500
DTSTAMP:20260423T150816
CREATED:20251122T190820Z
LAST-MODIFIED:20251122T190820Z
UID:2734-1784454300-1784457900@subcjtx.com
SUMMARY:Sunday School
DESCRIPTION:
URL:https://subcjtx.com/event/sunday-school-57/
END:VEVENT
BEGIN:VEVENT
DTSTART;TZID=America/Chicago:20260719T110000
DTEND;TZID=America/Chicago:20260719T123000
DTSTAMP:20260423T150816
CREATED:20251122T183454Z
LAST-MODIFIED:20251122T183454Z
UID:2609-1784458800-1784464200@subcjtx.com
SUMMARY:Morning  Worship
DESCRIPTION:
URL:https://subcjtx.com/event/morning-worship-54/
END:VEVENT
BEGIN:VEVENT
DTSTART;TZID=America/Chicago:20260722T180000
DTEND;TZID=America/Chicago:20260722T190000
DTSTAMP:20260423T150816
CREATED:20251122T180240Z
LAST-MODIFIED:20251122T180240Z
UID:2487-1784743200-1784746800@subcjtx.com
SUMMARY:Prayer Meeting/Bible Study
DESCRIPTION:
URL:https://subcjtx.com/event/prayer-meeting-bible-study-60/
END:VEVENT
BEGIN:VEVENT
DTSTART;TZID=America/Chicago:20260726T094500
DTEND;TZID=America/Chicago:20260726T104500
DTSTAMP:20260423T150816
CREATED:20251122T190839Z
LAST-MODIFIED:20251122T190839Z
UID:2736-1785059100-1785062700@subcjtx.com
SUMMARY:Sunday School
DESCRIPTION:
URL:https://subcjtx.com/event/sunday-school-58/
END:VEVENT
BEGIN:VEVENT
DTSTART;TZID=America/Chicago:20260726T110000
DTEND;TZID=America/Chicago:20260726T123000
DTSTAMP:20260423T150816
CREATED:20251122T183651Z
LAST-MODIFIED:20251122T183709Z
UID:2611-1785063600-1785069000@subcjtx.com
SUMMARY:Morning  Worship
DESCRIPTION:
URL:https://subcjtx.com/event/morning-worship-55/
END:VEVENT
BEGIN:VEVENT
DTSTART;TZID=America/Chicago:20260729T180000
DTEND;TZID=America/Chicago:20260729T190000
DTSTAMP:20260423T150816
CREATED:20251122T180300Z
LAST-MODIFIED:20251122T180300Z
UID:2489-1785348000-1785351600@subcjtx.com
SUMMARY:Prayer Meeting/Bible Study
DESCRIPTION:
URL:https://subcjtx.com/event/prayer-meeting-bible-study-61/
END:VEVENT
END:VCALENDAR