BEGIN:VCALENDAR
VERSION:2.0
PRODID:-//Sweet Union Baptist Church - ECPv6.15.20//NONSGML v1.0//EN
CALSCALE:GREGORIAN
METHOD:PUBLISH
X-ORIGINAL-URL:https://subcjtx.com
X-WR-CALDESC:Events for Sweet Union Baptist Church
REFRESH-INTERVAL;VALUE=DURATION:PT1H
X-Robots-Tag:noindex
X-PUBLISHED-TTL:PT1H
BEGIN:VTIMEZONE
TZID:America/Chicago
BEGIN:DAYLIGHT
TZOFFSETFROM:-0600
TZOFFSETTO:-0500
TZNAME:CDT
DTSTART:20250309T080000
END:DAYLIGHT
BEGIN:STANDARD
TZOFFSETFROM:-0500
TZOFFSETTO:-0600
TZNAME:CST
DTSTART:20251102T070000
END:STANDARD
BEGIN:DAYLIGHT
TZOFFSETFROM:-0600
TZOFFSETTO:-0500
TZNAME:CDT
DTSTART:20260308T080000
END:DAYLIGHT
BEGIN:STANDARD
TZOFFSETFROM:-0500
TZOFFSETTO:-0600
TZNAME:CST
DTSTART:20261101T070000
END:STANDARD
BEGIN:DAYLIGHT
TZOFFSETFROM:-0600
TZOFFSETTO:-0500
TZNAME:CDT
DTSTART:20270314T080000
END:DAYLIGHT
BEGIN:STANDARD
TZOFFSETFROM:-0500
TZOFFSETTO:-0600
TZNAME:CST
DTSTART:20271107T070000
END:STANDARD
END:VTIMEZONE
BEGIN:VEVENT
DTSTART;TZID=America/Chicago:20260902T180000
DTEND;TZID=America/Chicago:20260902T190000
DTSTAMP:20260423T182139
CREATED:20251122T180506Z
LAST-MODIFIED:20251122T180506Z
UID:2499-1788372000-1788375600@subcjtx.com
SUMMARY:Prayer Meeting/Bible Study
DESCRIPTION:
URL:https://subcjtx.com/event/prayer-meeting-bible-study-66/
END:VEVENT
BEGIN:VEVENT
DTSTART;TZID=America/Chicago:20260906T094500
DTEND;TZID=America/Chicago:20260906T104500
DTSTAMP:20260423T182139
CREATED:20251122T191054Z
LAST-MODIFIED:20251122T191054Z
UID:2748-1788687900-1788691500@subcjtx.com
SUMMARY:Sunday School
DESCRIPTION:
URL:https://subcjtx.com/event/sunday-school-64/
END:VEVENT
BEGIN:VEVENT
DTSTART;TZID=America/Chicago:20260906T110000
DTEND;TZID=America/Chicago:20260906T123000
DTSTAMP:20260423T182139
CREATED:20251122T183923Z
LAST-MODIFIED:20251122T183929Z
UID:2621-1788692400-1788697800@subcjtx.com
SUMMARY:Morning  Worship
DESCRIPTION:
URL:https://subcjtx.com/event/morning-worship-60/
END:VEVENT
BEGIN:VEVENT
DTSTART;TZID=America/Chicago:20260909T180000
DTEND;TZID=America/Chicago:20260909T190000
DTSTAMP:20260423T182139
CREATED:20251122T180525Z
LAST-MODIFIED:20251122T180525Z
UID:2501-1788976800-1788980400@subcjtx.com
SUMMARY:Prayer Meeting/Bible Study
DESCRIPTION:
URL:https://subcjtx.com/event/prayer-meeting-bible-study-67/
END:VEVENT
BEGIN:VEVENT
DTSTART;TZID=America/Chicago:20260913T094500
DTEND;TZID=America/Chicago:20260913T104500
DTSTAMP:20260423T182139
CREATED:20251122T191124Z
LAST-MODIFIED:20251122T191124Z
UID:2750-1789292700-1789296300@subcjtx.com
SUMMARY:Sunday School
DESCRIPTION:
URL:https://subcjtx.com/event/sunday-school-65/
END:VEVENT
BEGIN:VEVENT
DTSTART;TZID=America/Chicago:20260913T110000
DTEND;TZID=America/Chicago:20260913T123000
DTSTAMP:20260423T182139
CREATED:20251122T183953Z
LAST-MODIFIED:20251122T183959Z
UID:2623-1789297200-1789302600@subcjtx.com
SUMMARY:Morning  Worship
DESCRIPTION:
URL:https://subcjtx.com/event/morning-worship-61/
END:VEVENT
BEGIN:VEVENT
DTSTART;TZID=America/Chicago:20260916T180000
DTEND;TZID=America/Chicago:20260916T190000
DTSTAMP:20260423T182139
CREATED:20251122T180545Z
LAST-MODIFIED:20251122T180545Z
UID:2503-1789581600-1789585200@subcjtx.com
SUMMARY:Prayer Meeting/Bible Study
DESCRIPTION:
URL:https://subcjtx.com/event/prayer-meeting-bible-study-68/
END:VEVENT
BEGIN:VEVENT
DTSTART;TZID=America/Chicago:20260920T094500
DTEND;TZID=America/Chicago:20260920T104500
DTSTAMP:20260423T182139
CREATED:20251122T191152Z
LAST-MODIFIED:20251122T191152Z
UID:2752-1789897500-1789901100@subcjtx.com
SUMMARY:Sunday School
DESCRIPTION:
URL:https://subcjtx.com/event/sunday-school-66/
END:VEVENT
BEGIN:VEVENT
DTSTART;TZID=America/Chicago:20260920T110000
DTEND;TZID=America/Chicago:20260920T123000
DTSTAMP:20260423T182139
CREATED:20251122T184023Z
LAST-MODIFIED:20251122T184023Z
UID:2625-1789902000-1789907400@subcjtx.com
SUMMARY:Morning  Worship
DESCRIPTION:
URL:https://subcjtx.com/event/morning-worship-62/
END:VEVENT
BEGIN:VEVENT
DTSTART;TZID=America/Chicago:20260923T180000
DTEND;TZID=America/Chicago:20260923T190000
DTSTAMP:20260423T182139
CREATED:20251122T180605Z
LAST-MODIFIED:20251122T180605Z
UID:2505-1790186400-1790190000@subcjtx.com
SUMMARY:Prayer Meeting/Bible Study
DESCRIPTION:
URL:https://subcjtx.com/event/prayer-meeting-bible-study-69/
END:VEVENT
BEGIN:VEVENT
DTSTART;TZID=America/Chicago:20260927T094500
DTEND;TZID=America/Chicago:20260927T104500
DTSTAMP:20260423T182139
CREATED:20251122T191215Z
LAST-MODIFIED:20251122T191215Z
UID:2754-1790502300-1790505900@subcjtx.com
SUMMARY:Sunday School
DESCRIPTION:
URL:https://subcjtx.com/event/sunday-school-67/
END:VEVENT
BEGIN:VEVENT
DTSTART;TZID=America/Chicago:20260927T110000
DTEND;TZID=America/Chicago:20260927T123000
DTSTAMP:20260423T182139
CREATED:20251122T184044Z
LAST-MODIFIED:20251122T184044Z
UID:2627-1790506800-1790512200@subcjtx.com
SUMMARY:Morning  Worship
DESCRIPTION:
URL:https://subcjtx.com/event/morning-worship-63/
END:VEVENT
BEGIN:VEVENT
DTSTART;TZID=America/Chicago:20260930T180000
DTEND;TZID=America/Chicago:20260930T190000
DTSTAMP:20260423T182139
CREATED:20251122T180627Z
LAST-MODIFIED:20251122T180627Z
UID:2507-1790791200-1790794800@subcjtx.com
SUMMARY:Prayer Meeting/Bible Study
DESCRIPTION:
URL:https://subcjtx.com/event/prayer-meeting-bible-study-70/
END:VEVENT
END:VCALENDAR