BEGIN:VCALENDAR
VERSION:2.0
PRODID:-//Sweet Union Baptist Church - ECPv6.15.20//NONSGML v1.0//EN
CALSCALE:GREGORIAN
METHOD:PUBLISH
X-ORIGINAL-URL:https://subcjtx.com
X-WR-CALDESC:Events for Sweet Union Baptist Church
REFRESH-INTERVAL;VALUE=DURATION:PT1H
X-Robots-Tag:noindex
X-PUBLISHED-TTL:PT1H
BEGIN:VTIMEZONE
TZID:America/Chicago
BEGIN:DAYLIGHT
TZOFFSETFROM:-0600
TZOFFSETTO:-0500
TZNAME:CDT
DTSTART:20250309T080000
END:DAYLIGHT
BEGIN:STANDARD
TZOFFSETFROM:-0500
TZOFFSETTO:-0600
TZNAME:CST
DTSTART:20251102T070000
END:STANDARD
BEGIN:DAYLIGHT
TZOFFSETFROM:-0600
TZOFFSETTO:-0500
TZNAME:CDT
DTSTART:20260308T080000
END:DAYLIGHT
BEGIN:STANDARD
TZOFFSETFROM:-0500
TZOFFSETTO:-0600
TZNAME:CST
DTSTART:20261101T070000
END:STANDARD
BEGIN:DAYLIGHT
TZOFFSETFROM:-0600
TZOFFSETTO:-0500
TZNAME:CDT
DTSTART:20270314T080000
END:DAYLIGHT
BEGIN:STANDARD
TZOFFSETFROM:-0500
TZOFFSETTO:-0600
TZNAME:CST
DTSTART:20271107T070000
END:STANDARD
END:VTIMEZONE
BEGIN:VEVENT
DTSTART;TZID=America/Chicago:20261202T180000
DTEND;TZID=America/Chicago:20261202T190000
DTSTAMP:20260423T224628
CREATED:20251122T181237Z
LAST-MODIFIED:20251122T181321Z
UID:2525-1796234400-1796238000@subcjtx.com
SUMMARY:Prayer Meeting/Bible Study
DESCRIPTION:
URL:https://subcjtx.com/event/prayer-meeting-bible-study-79/
END:VEVENT
BEGIN:VEVENT
DTSTART;TZID=America/Chicago:20261206T094500
DTEND;TZID=America/Chicago:20261206T104500
DTSTAMP:20260423T224628
CREATED:20251122T191609Z
LAST-MODIFIED:20251122T191609Z
UID:2774-1796550300-1796553900@subcjtx.com
SUMMARY:Sunday School
DESCRIPTION:
URL:https://subcjtx.com/event/sunday-school-77/
END:VEVENT
BEGIN:VEVENT
DTSTART;TZID=America/Chicago:20261206T110000
DTEND;TZID=America/Chicago:20261206T123000
DTSTAMP:20260423T224628
CREATED:20251122T184535Z
LAST-MODIFIED:20251122T184535Z
UID:2648-1796554800-1796560200@subcjtx.com
SUMMARY:Morning  Worship
DESCRIPTION:
URL:https://subcjtx.com/event/morning-worship-73/
END:VEVENT
BEGIN:VEVENT
DTSTART;TZID=America/Chicago:20261209T180000
DTEND;TZID=America/Chicago:20261209T190000
DTSTAMP:20260423T224628
CREATED:20251122T181348Z
LAST-MODIFIED:20251122T181348Z
UID:2527-1796839200-1796842800@subcjtx.com
SUMMARY:Prayer Meeting/Bible Study
DESCRIPTION:
URL:https://subcjtx.com/event/prayer-meeting-bible-study-80/
END:VEVENT
BEGIN:VEVENT
DTSTART;TZID=America/Chicago:20261213T094500
DTEND;TZID=America/Chicago:20261213T104500
DTSTAMP:20260423T224628
CREATED:20251122T191631Z
LAST-MODIFIED:20251122T191631Z
UID:2776-1797155100-1797158700@subcjtx.com
SUMMARY:Sunday School
DESCRIPTION:
URL:https://subcjtx.com/event/sunday-school-78/
END:VEVENT
BEGIN:VEVENT
DTSTART;TZID=America/Chicago:20261213T110000
DTEND;TZID=America/Chicago:20261213T123000
DTSTAMP:20260423T224628
CREATED:20251122T184552Z
LAST-MODIFIED:20251122T184552Z
UID:2650-1797159600-1797165000@subcjtx.com
SUMMARY:Morning  Worship
DESCRIPTION:
URL:https://subcjtx.com/event/morning-worship-74/
END:VEVENT
BEGIN:VEVENT
DTSTART;TZID=America/Chicago:20261216T180000
DTEND;TZID=America/Chicago:20261216T190000
DTSTAMP:20260423T224628
CREATED:20251122T181406Z
LAST-MODIFIED:20251122T181416Z
UID:2529-1797444000-1797447600@subcjtx.com
SUMMARY:Prayer Meeting/Bible Study
DESCRIPTION:
URL:https://subcjtx.com/event/prayer-meeting-bible-study-81/
END:VEVENT
BEGIN:VEVENT
DTSTART;TZID=America/Chicago:20261220T094500
DTEND;TZID=America/Chicago:20261220T104500
DTSTAMP:20260423T224628
CREATED:20251122T191655Z
LAST-MODIFIED:20251122T191655Z
UID:2778-1797759900-1797763500@subcjtx.com
SUMMARY:Sunday School
DESCRIPTION:
URL:https://subcjtx.com/event/sunday-school-79/
END:VEVENT
BEGIN:VEVENT
DTSTART;TZID=America/Chicago:20261220T110000
DTEND;TZID=America/Chicago:20261220T123000
DTSTAMP:20260423T224628
CREATED:20251122T184617Z
LAST-MODIFIED:20251122T184617Z
UID:2652-1797764400-1797769800@subcjtx.com
SUMMARY:Morning  Worship
DESCRIPTION:
URL:https://subcjtx.com/event/morning-worship-75/
END:VEVENT
BEGIN:VEVENT
DTSTART;TZID=America/Chicago:20261223T180000
DTEND;TZID=America/Chicago:20261223T190000
DTSTAMP:20260423T224628
CREATED:20251122T181440Z
LAST-MODIFIED:20251122T181440Z
UID:2531-1798048800-1798052400@subcjtx.com
SUMMARY:Prayer Meeting/Bible Study
DESCRIPTION:
URL:https://subcjtx.com/event/prayer-meeting-bible-study-82/
END:VEVENT
BEGIN:VEVENT
DTSTART;TZID=America/Chicago:20261227T094500
DTEND;TZID=America/Chicago:20261227T104500
DTSTAMP:20260423T224628
CREATED:20251122T191712Z
LAST-MODIFIED:20251122T191712Z
UID:2780-1798364700-1798368300@subcjtx.com
SUMMARY:Sunday School
DESCRIPTION:
URL:https://subcjtx.com/event/sunday-school-80/
END:VEVENT
BEGIN:VEVENT
DTSTART;TZID=America/Chicago:20261227T110000
DTEND;TZID=America/Chicago:20261227T123000
DTSTAMP:20260423T224628
CREATED:20251122T184637Z
LAST-MODIFIED:20251122T184637Z
UID:2654-1798369200-1798374600@subcjtx.com
SUMMARY:Morning  Worship
DESCRIPTION:
URL:https://subcjtx.com/event/morning-worship-76/
END:VEVENT
BEGIN:VEVENT
DTSTART;TZID=America/Chicago:20261230T180000
DTEND;TZID=America/Chicago:20261230T190000
DTSTAMP:20260423T224628
CREATED:20251122T181456Z
LAST-MODIFIED:20251122T181456Z
UID:2533-1798653600-1798657200@subcjtx.com
SUMMARY:Prayer Meeting/Bible Study
DESCRIPTION:
URL:https://subcjtx.com/event/prayer-meeting-bible-study-83/
END:VEVENT
END:VCALENDAR